BEGIN:VCALENDAR
VERSION:2.0
PRODID:-//ChamberMaster//Event Calendar 2.0//EN
METHOD:PUBLISH
X-PUBLISHED-TTL:P3D
REFRESH-INTERVAL:P3D
CALSCALE:GREGORIAN
BEGIN:VEVENT
DTSTART:20191114T223000Z
DTEND:20191115T003000Z
X-MICROSOFT-CDO-ALLDAYEVENT:FALSE
SUMMARY:GSVYP 2nd Thursday Social
DESCRIPTION:Join the GSVYP's for their 2nd Thursday Social at The Watson Inn in Watsontown\, sponsored by the Luzerne County Community College at the Greater Susquehanna Center and C.S.I.U.!
X-ALT-DESC;FMTTYPE=text/html:Join the GSVYP&#39\;s for their 2nd Thursday Social at The Watson Inn in Watsontown\, sponsored by the Luzerne County Community College at the Greater Susquehanna Center and C.S.I.U.!
LOCATION:The Watson Inn 100 Main Street Watsontown\, PA 17777
UID:e.2757.4480
SEQUENCE:3
DTSTAMP:20260421T155046Z
URL:https://business.gsvcc.org/events/details/gsvyp-2nd-thursday-social-4480
END:VEVENT

END:VCALENDAR
