BEGIN:VCALENDAR
VERSION:2.0
PRODID:-//ChamberMaster//Event Calendar 2.0//EN
METHOD:PUBLISH
X-PUBLISHED-TTL:P3D
REFRESH-INTERVAL:P3D
CALSCALE:GREGORIAN
BEGIN:VEVENT
DTSTART:20181019T123000Z
DTEND:20181019T183000Z
X-MICROSOFT-CDO-ALLDAYEVENT:FALSE
SUMMARY:Community College Summit: Susquehanna Valley
DESCRIPTION:The Greater Susquehanna Valley Chamber of Commerce is proud to serve as a partner and co-host for the 2018 Community College Summit: Susquehanna Valley. Seeking to answer the question\, "What are the advantages of an independent regional community college?"\, the Summit will feature keynote speakers Dr. Scott Evenbeck\, Founding President of Guttman Community College\, and Dr. Randy Smith\, President of the Rural Community College Alliance.\n\n\n\nCommunity Colleges are attractive regional public assets that serve as a bridge to self-sustaining wage-earning at a significanly reduced cost.  Come to learn more about how a community college could benefit the Greater Susquehanna Valley!\n\n\n\nIn addition to keynote speakers\, the Summit will feature breakout sessions\, a workforce panel discussion\, and student testimonials. Lunch will be provided for all participants.
X-ALT-DESC;FMTTYPE=text/html:The Greater Susquehanna Valley Chamber of Commerce is proud to serve as a partner and co-host for the 2018 Community College Summit: Susquehanna Valley. Seeking to answer the question\, &quot\;What are the advantages of an independent regional community college?&quot\;\, the Summit will feature keynote speakers Dr. Scott Evenbeck\, Founding President of Guttman Community College\, and Dr. Randy Smith\, President of the Rural Community College Alliance.<br />\n<br />\nCommunity Colleges are attractive regional public assets that serve as a bridge to self-sustaining wage-earning at a significanly reduced cost.&nbsp\; Come to learn more about how a community college could benefit the Greater Susquehanna Valley!<br />\n<br />\nIn addition to keynote speakers\, the Summit will feature breakout sessions\, a workforce panel discussion\, and student testimonials. Lunch will be provided for all participants.
LOCATION:The Albright Center 450 Chestnut St. Sunbury\, PA 17801
UID:e.2757.4000
SEQUENCE:3
DTSTAMP:20260423T015107Z
URL:https://business.gsvcc.org/events/details/community-college-summit-susquehanna-valley-4000
END:VEVENT

END:VCALENDAR
