BEGIN:VCALENDAR
VERSION:2.0
PRODID:-//ChamberMaster//Event Calendar 2.0//EN
METHOD:PUBLISH
X-PUBLISHED-TTL:P3D
REFRESH-INTERVAL:P3D
CALSCALE:GREGORIAN
BEGIN:VEVENT
DTSTART:20220504T143000Z
DTEND:20220504T170000Z
X-MICROSOFT-CDO-ALLDAYEVENT:FALSE
SUMMARY:Annual Meeting & Awards Ceremony
DESCRIPTION:*Registration deadline: Wednesday\, April 27\, 2022\n\n\n\nJoin us in celebrating our 101st Annual Meeting & Awards Ceremony!\n\n\n\nYour GSV Chamber leaders will provide informative updates on what your Chamber is doing for you. We will also be honoring of our awardees\, which include the Small Business of the Year\, Business of the Year\, Karen L. Hackman Star of Excellence\, Heritage Award\, Young Professional of the Year\, and The ATHENA  Leadership Award. With a jammed packed program\, this will be an Annual Meeting filled with information and celebration for all.\n\n\n\nWe look forward to seeing you there!\n\n\n\nBuffet Lunch Included:\n\n	Fresh Fruit\n	House Salad\n	Baked Rolls\n	Roasted Top Round of Beef\n	Lemon and Herb Roasted Chicken Breast\n	Roasted Filet of Salmon with Sundried Tomato Vinaigrette\n	Roasted Red Potatoes\n	Steam Broccoli/Cauliflower\n	Assorted Dessert
X-ALT-DESC;FMTTYPE=text/html:<strong>*Registration deadline: Wednesday\, April 27\, 2022</strong><br />\n<br />\nJoin us in celebrating our 101st Annual Meeting &amp\; Awards Ceremony!<br />\n<br />\nYour GSV Chamber leaders will provide informative updates on what your Chamber is doing for you. We will also be honoring of our awardees\, which include the Small Business of the Year\, Business of the Year\,&nbsp\;Karen L. Hackman Star of Excellence\,&nbsp\;Heritage Award\,&nbsp\;Young Professional of the Year\, and&nbsp\;The ATHENA&reg\; Leadership Award. With a jammed packed program\, this will be an Annual Meeting filled with information and celebration for all.<br />\n<br />\nWe look forward to seeing you there!<br />\n<br />\n<u>Buffet Lunch Included:</u>\n<ul>\n	<li>Fresh Fruit</li>\n	<li>House Salad</li>\n	<li>Baked Rolls</li>\n	<li>Roasted Top Round of Beef</li>\n	<li>Lemon and Herb Roasted Chicken Breast</li>\n	<li>Roasted Filet of Salmon with Sundried Tomato Vinaigrette</li>\n	<li>Roasted Red Potatoes</li>\n	<li>Steam Broccoli/Cauliflower</li>\n	<li>Assorted Dessert</li>\n</ul>\n
LOCATION:Pine Barn Inn 43 Pine Barn Place Danville\, PA 17821
UID:e.2757.5691
SEQUENCE:3
DTSTAMP:20260424T111811Z
URL:https://business.gsvcc.org/events/details/annual-meeting-awards-ceremony-5691
END:VEVENT

END:VCALENDAR
